BEGIN:VCALENDAR
VERSION:2.0
PRODID:-//My Calendar//http://www.joedolson.com//v3.1.18//EN
METHOD:PUBLISH
CALSCALE:GREGORIAN
X-WR-CALNAME:American Legion
X-PUBLISHED-TTL:PT24H
REFRESH-INTERVAL;VALUE=DURATION:PT24H
X-WR-CALDESC:Events from American Legion
BEGIN:VEVENT
UID:1160-63
LOCATION:American Legion Hall  232 Broadway Ave  McCloud CA 96057
SUMMARY:Corned Beef &amp; Cabbage Dinner!
DTSTAMP:20220318T160000
ORGANIZER;CN=Admin:MAILTO:hokage@webmasterninjas.com
DTSTART;TZID=Etc/GMT+8:20220318T160000
DTEND;TZID=Etc/GMT+8:20220318T183000
URL;VALUE=URI:https://americanlegioncheulapost92.org/my-calendar
DESCRIPTION:$15 a plate....4:00PM to 6:30PMOpen to the Public!Opportunity Drawing at 7! 
CATEGORIES:American Legion
END:VEVENT
BEGIN:VEVENT
UID:1159-62
LOCATION:American Legion Hall  232 Broadway Ave  McCloud CA 96057
SUMMARY:Oktoberfest at the Legion!
DTSTAMP:20211002T170000
ORGANIZER;CN=Admin:MAILTO:hokage@webmasterninjas.com
DTSTART;TZID=Etc/GMT+8:20211002T170000
DTEND;TZID=Etc/GMT+8:20211002T190000
URL;VALUE=URI:https://americanlegioncheulapost92.org/my-calendar
DESCRIPTION:German food and prizes at the American Legion in McCloud! 
CATEGORIES:American Legion
END:VEVENT
BEGIN:VEVENT
UID:1108-61
LOCATION:American Legion Hall  232 Broadway Ave  McCloud CA 96057
SUMMARY:Nina's Taco Wednesday!
DTSTAMP:20210915T170000
ORGANIZER;CN=Admin:MAILTO:hokage@webmasterninjas.com
DTSTART;TZID=Etc/GMT+8:20210915T170000
DTEND;TZID=Etc/GMT+8:20210915T183000
URL;VALUE=URI:https://americanlegioncheulapost92.org/my-calendar
DESCRIPTION:Nina's Taco's and Nacho's!Corn or Flour Taco $4.00Taco Salad $7.00Nacho's $3.00Nacho's Deluxe $7.005-6:30 PM at the Cheula Post 92 American Legion in McCloud!Take out and limited seating! 
CATEGORIES:American Legion Auxiliary
END:VEVENT
BEGIN:VEVENT
UID:1109-61
LOCATION:American Legion Hall  232 Broadway Ave  McCloud CA 96057
SUMMARY:Nina's Taco Wednesday!
DTSTAMP:20210922T170000
ORGANIZER;CN=Admin:MAILTO:hokage@webmasterninjas.com
DTSTART;TZID=Etc/GMT+8:20210922T170000
DTEND;TZID=Etc/GMT+8:20210922T183000
URL;VALUE=URI:https://americanlegioncheulapost92.org/my-calendar
DESCRIPTION:Nina's Taco's and Nacho's!Corn or Flour Taco $4.00Taco Salad $7.00Nacho's $3.00Nacho's Deluxe $7.005-6:30 PM at the Cheula Post 92 American Legion in McCloud!Take out and limited seating! 
CATEGORIES:American Legion Auxiliary
END:VEVENT
BEGIN:VEVENT
UID:1110-61
LOCATION:American Legion Hall  232 Broadway Ave  McCloud CA 96057
SUMMARY:Nina's Taco Wednesday!
DTSTAMP:20210929T170000
ORGANIZER;CN=Admin:MAILTO:hokage@webmasterninjas.com
DTSTART;TZID=Etc/GMT+8:20210929T170000
DTEND;TZID=Etc/GMT+8:20210929T183000
URL;VALUE=URI:https://americanlegioncheulapost92.org/my-calendar
DESCRIPTION:Nina's Taco's and Nacho's!Corn or Flour Taco $4.00Taco Salad $7.00Nacho's $3.00Nacho's Deluxe $7.005-6:30 PM at the Cheula Post 92 American Legion in McCloud!Take out and limited seating! 
CATEGORIES:American Legion Auxiliary
END:VEVENT
BEGIN:VEVENT
UID:1111-61
LOCATION:American Legion Hall  232 Broadway Ave  McCloud CA 96057
SUMMARY:Nina's Taco Wednesday!
DTSTAMP:20211006T170000
ORGANIZER;CN=Admin:MAILTO:hokage@webmasterninjas.com
DTSTART;TZID=Etc/GMT+8:20211006T170000
DTEND;TZID=Etc/GMT+8:20211006T183000
URL;VALUE=URI:https://americanlegioncheulapost92.org/my-calendar
DESCRIPTION:Nina's Taco's and Nacho's!Corn or Flour Taco $4.00Taco Salad $7.00Nacho's $3.00Nacho's Deluxe $7.005-6:30 PM at the Cheula Post 92 American Legion in McCloud!Take out and limited seating! 
CATEGORIES:American Legion Auxiliary
END:VEVENT
BEGIN:VEVENT
UID:1112-61
LOCATION:American Legion Hall  232 Broadway Ave  McCloud CA 96057
SUMMARY:Nina's Taco Wednesday!
DTSTAMP:20211013T170000
ORGANIZER;CN=Admin:MAILTO:hokage@webmasterninjas.com
DTSTART;TZID=Etc/GMT+8:20211013T170000
DTEND;TZID=Etc/GMT+8:20211013T183000
URL;VALUE=URI:https://americanlegioncheulapost92.org/my-calendar
DESCRIPTION:Nina's Taco's and Nacho's!Corn or Flour Taco $4.00Taco Salad $7.00Nacho's $3.00Nacho's Deluxe $7.005-6:30 PM at the Cheula Post 92 American Legion in McCloud!Take out and limited seating! 
CATEGORIES:American Legion Auxiliary
END:VEVENT
BEGIN:VEVENT
UID:1113-61
LOCATION:American Legion Hall  232 Broadway Ave  McCloud CA 96057
SUMMARY:Nina's Taco Wednesday!
DTSTAMP:20211020T170000
ORGANIZER;CN=Admin:MAILTO:hokage@webmasterninjas.com
DTSTART;TZID=Etc/GMT+8:20211020T170000
DTEND;TZID=Etc/GMT+8:20211020T183000
URL;VALUE=URI:https://americanlegioncheulapost92.org/my-calendar
DESCRIPTION:Nina's Taco's and Nacho's!Corn or Flour Taco $4.00Taco Salad $7.00Nacho's $3.00Nacho's Deluxe $7.005-6:30 PM at the Cheula Post 92 American Legion in McCloud!Take out and limited seating! 
CATEGORIES:American Legion Auxiliary
END:VEVENT
BEGIN:VEVENT
UID:1114-61
LOCATION:American Legion Hall  232 Broadway Ave  McCloud CA 96057
SUMMARY:Nina's Taco Wednesday!
DTSTAMP:20211027T170000
ORGANIZER;CN=Admin:MAILTO:hokage@webmasterninjas.com
DTSTART;TZID=Etc/GMT+8:20211027T170000
DTEND;TZID=Etc/GMT+8:20211027T183000
URL;VALUE=URI:https://americanlegioncheulapost92.org/my-calendar
DESCRIPTION:Nina's Taco's and Nacho's!Corn or Flour Taco $4.00Taco Salad $7.00Nacho's $3.00Nacho's Deluxe $7.005-6:30 PM at the Cheula Post 92 American Legion in McCloud!Take out and limited seating! 
CATEGORIES:American Legion Auxiliary
END:VEVENT
BEGIN:VEVENT
UID:1115-61
LOCATION:American Legion Hall  232 Broadway Ave  McCloud CA 96057
SUMMARY:Nina's Taco Wednesday!
DTSTAMP:20211103T170000
ORGANIZER;CN=Admin:MAILTO:hokage@webmasterninjas.com
DTSTART;TZID=Etc/GMT+8:20211103T170000
DTEND;TZID=Etc/GMT+8:20211103T183000
URL;VALUE=URI:https://americanlegioncheulapost92.org/my-calendar
DESCRIPTION:Nina's Taco's and Nacho's!Corn or Flour Taco $4.00Taco Salad $7.00Nacho's $3.00Nacho's Deluxe $7.005-6:30 PM at the Cheula Post 92 American Legion in McCloud!Take out and limited seating! 
CATEGORIES:American Legion Auxiliary
END:VEVENT
BEGIN:VEVENT
UID:1116-61
LOCATION:American Legion Hall  232 Broadway Ave  McCloud CA 96057
SUMMARY:Nina's Taco Wednesday!
DTSTAMP:20211110T170000
ORGANIZER;CN=Admin:MAILTO:hokage@webmasterninjas.com
DTSTART;TZID=Etc/GMT+8:20211110T170000
DTEND;TZID=Etc/GMT+8:20211110T183000
URL;VALUE=URI:https://americanlegioncheulapost92.org/my-calendar
DESCRIPTION:Nina's Taco's and Nacho's!Corn or Flour Taco $4.00Taco Salad $7.00Nacho's $3.00Nacho's Deluxe $7.005-6:30 PM at the Cheula Post 92 American Legion in McCloud!Take out and limited seating! 
CATEGORIES:American Legion Auxiliary
END:VEVENT
BEGIN:VEVENT
UID:1117-61
LOCATION:American Legion Hall  232 Broadway Ave  McCloud CA 96057
SUMMARY:Nina's Taco Wednesday!
DTSTAMP:20211117T170000
ORGANIZER;CN=Admin:MAILTO:hokage@webmasterninjas.com
DTSTART;TZID=Etc/GMT+8:20211117T170000
DTEND;TZID=Etc/GMT+8:20211117T183000
URL;VALUE=URI:https://americanlegioncheulapost92.org/my-calendar
DESCRIPTION:Nina's Taco's and Nacho's!Corn or Flour Taco $4.00Taco Salad $7.00Nacho's $3.00Nacho's Deluxe $7.005-6:30 PM at the Cheula Post 92 American Legion in McCloud!Take out and limited seating! 
CATEGORIES:American Legion Auxiliary
END:VEVENT
BEGIN:VEVENT
UID:1118-61
LOCATION:American Legion Hall  232 Broadway Ave  McCloud CA 96057
SUMMARY:Nina's Taco Wednesday!
DTSTAMP:20211124T170000
ORGANIZER;CN=Admin:MAILTO:hokage@webmasterninjas.com
DTSTART;TZID=Etc/GMT+8:20211124T170000
DTEND;TZID=Etc/GMT+8:20211124T183000
URL;VALUE=URI:https://americanlegioncheulapost92.org/my-calendar
DESCRIPTION:Nina's Taco's and Nacho's!Corn or Flour Taco $4.00Taco Salad $7.00Nacho's $3.00Nacho's Deluxe $7.005-6:30 PM at the Cheula Post 92 American Legion in McCloud!Take out and limited seating! 
CATEGORIES:American Legion Auxiliary
END:VEVENT
BEGIN:VEVENT
UID:1119-61
LOCATION:American Legion Hall  232 Broadway Ave  McCloud CA 96057
SUMMARY:Nina's Taco Wednesday!
DTSTAMP:20211201T170000
ORGANIZER;CN=Admin:MAILTO:hokage@webmasterninjas.com
DTSTART;TZID=Etc/GMT+8:20211201T170000
DTEND;TZID=Etc/GMT+8:20211201T183000
URL;VALUE=URI:https://americanlegioncheulapost92.org/my-calendar
DESCRIPTION:Nina's Taco's and Nacho's!Corn or Flour Taco $4.00Taco Salad $7.00Nacho's $3.00Nacho's Deluxe $7.005-6:30 PM at the Cheula Post 92 American Legion in McCloud!Take out and limited seating! 
CATEGORIES:American Legion Auxiliary
END:VEVENT
BEGIN:VEVENT
UID:1120-61
LOCATION:American Legion Hall  232 Broadway Ave  McCloud CA 96057
SUMMARY:Nina's Taco Wednesday!
DTSTAMP:20211208T170000
ORGANIZER;CN=Admin:MAILTO:hokage@webmasterninjas.com
DTSTART;TZID=Etc/GMT+8:20211208T170000
DTEND;TZID=Etc/GMT+8:20211208T183000
URL;VALUE=URI:https://americanlegioncheulapost92.org/my-calendar
DESCRIPTION:Nina's Taco's and Nacho's!Corn or Flour Taco $4.00Taco Salad $7.00Nacho's $3.00Nacho's Deluxe $7.005-6:30 PM at the Cheula Post 92 American Legion in McCloud!Take out and limited seating! 
CATEGORIES:American Legion Auxiliary
END:VEVENT
BEGIN:VEVENT
UID:1121-61
LOCATION:American Legion Hall  232 Broadway Ave  McCloud CA 96057
SUMMARY:Nina's Taco Wednesday!
DTSTAMP:20211215T170000
ORGANIZER;CN=Admin:MAILTO:hokage@webmasterninjas.com
DTSTART;TZID=Etc/GMT+8:20211215T170000
DTEND;TZID=Etc/GMT+8:20211215T183000
URL;VALUE=URI:https://americanlegioncheulapost92.org/my-calendar
DESCRIPTION:Nina's Taco's and Nacho's!Corn or Flour Taco $4.00Taco Salad $7.00Nacho's $3.00Nacho's Deluxe $7.005-6:30 PM at the Cheula Post 92 American Legion in McCloud!Take out and limited seating! 
CATEGORIES:American Legion Auxiliary
END:VEVENT
BEGIN:VEVENT
UID:1122-61
LOCATION:American Legion Hall  232 Broadway Ave  McCloud CA 96057
SUMMARY:Nina's Taco Wednesday!
DTSTAMP:20211222T170000
ORGANIZER;CN=Admin:MAILTO:hokage@webmasterninjas.com
DTSTART;TZID=Etc/GMT+8:20211222T170000
DTEND;TZID=Etc/GMT+8:20211222T183000
URL;VALUE=URI:https://americanlegioncheulapost92.org/my-calendar
DESCRIPTION:Nina's Taco's and Nacho's!Corn or Flour Taco $4.00Taco Salad $7.00Nacho's $3.00Nacho's Deluxe $7.005-6:30 PM at the Cheula Post 92 American Legion in McCloud!Take out and limited seating! 
CATEGORIES:American Legion Auxiliary
END:VEVENT
BEGIN:VEVENT
UID:1123-61
LOCATION:American Legion Hall  232 Broadway Ave  McCloud CA 96057
SUMMARY:Nina's Taco Wednesday!
DTSTAMP:20211229T170000
ORGANIZER;CN=Admin:MAILTO:hokage@webmasterninjas.com
DTSTART;TZID=Etc/GMT+8:20211229T170000
DTEND;TZID=Etc/GMT+8:20211229T183000
URL;VALUE=URI:https://americanlegioncheulapost92.org/my-calendar
DESCRIPTION:Nina's Taco's and Nacho's!Corn or Flour Taco $4.00Taco Salad $7.00Nacho's $3.00Nacho's Deluxe $7.005-6:30 PM at the Cheula Post 92 American Legion in McCloud!Take out and limited seating! 
CATEGORIES:American Legion Auxiliary
END:VEVENT
BEGIN:VEVENT
UID:1124-61
LOCATION:American Legion Hall  232 Broadway Ave  McCloud CA 96057
SUMMARY:Nina's Taco Wednesday!
DTSTAMP:20220105T170000
ORGANIZER;CN=Admin:MAILTO:hokage@webmasterninjas.com
DTSTART;TZID=Etc/GMT+8:20220105T170000
DTEND;TZID=Etc/GMT+8:20220105T183000
URL;VALUE=URI:https://americanlegioncheulapost92.org/my-calendar
DESCRIPTION:Nina's Taco's and Nacho's!Corn or Flour Taco $4.00Taco Salad $7.00Nacho's $3.00Nacho's Deluxe $7.005-6:30 PM at the Cheula Post 92 American Legion in McCloud!Take out and limited seating! 
CATEGORIES:American Legion Auxiliary
END:VEVENT
BEGIN:VEVENT
UID:1125-61
LOCATION:American Legion Hall  232 Broadway Ave  McCloud CA 96057
SUMMARY:Nina's Taco Wednesday!
DTSTAMP:20220112T170000
ORGANIZER;CN=Admin:MAILTO:hokage@webmasterninjas.com
DTSTART;TZID=Etc/GMT+8:20220112T170000
DTEND;TZID=Etc/GMT+8:20220112T183000
URL;VALUE=URI:https://americanlegioncheulapost92.org/my-calendar
DESCRIPTION:Nina's Taco's and Nacho's!Corn or Flour Taco $4.00Taco Salad $7.00Nacho's $3.00Nacho's Deluxe $7.005-6:30 PM at the Cheula Post 92 American Legion in McCloud!Take out and limited seating! 
CATEGORIES:American Legion Auxiliary
END:VEVENT
BEGIN:VEVENT
UID:1126-61
LOCATION:American Legion Hall  232 Broadway Ave  McCloud CA 96057
SUMMARY:Nina's Taco Wednesday!
DTSTAMP:20220119T170000
ORGANIZER;CN=Admin:MAILTO:hokage@webmasterninjas.com
DTSTART;TZID=Etc/GMT+8:20220119T170000
DTEND;TZID=Etc/GMT+8:20220119T183000
URL;VALUE=URI:https://americanlegioncheulapost92.org/my-calendar
DESCRIPTION:Nina's Taco's and Nacho's!Corn or Flour Taco $4.00Taco Salad $7.00Nacho's $3.00Nacho's Deluxe $7.005-6:30 PM at the Cheula Post 92 American Legion in McCloud!Take out and limited seating! 
CATEGORIES:American Legion Auxiliary
END:VEVENT
BEGIN:VEVENT
UID:1127-61
LOCATION:American Legion Hall  232 Broadway Ave  McCloud CA 96057
SUMMARY:Nina's Taco Wednesday!
DTSTAMP:20220126T170000
ORGANIZER;CN=Admin:MAILTO:hokage@webmasterninjas.com
DTSTART;TZID=Etc/GMT+8:20220126T170000
DTEND;TZID=Etc/GMT+8:20220126T183000
URL;VALUE=URI:https://americanlegioncheulapost92.org/my-calendar
DESCRIPTION:Nina's Taco's and Nacho's!Corn or Flour Taco $4.00Taco Salad $7.00Nacho's $3.00Nacho's Deluxe $7.005-6:30 PM at the Cheula Post 92 American Legion in McCloud!Take out and limited seating! 
CATEGORIES:American Legion Auxiliary
END:VEVENT
BEGIN:VEVENT
UID:1128-61
LOCATION:American Legion Hall  232 Broadway Ave  McCloud CA 96057
SUMMARY:Nina's Taco Wednesday!
DTSTAMP:20220202T170000
ORGANIZER;CN=Admin:MAILTO:hokage@webmasterninjas.com
DTSTART;TZID=Etc/GMT+8:20220202T170000
DTEND;TZID=Etc/GMT+8:20220202T183000
URL;VALUE=URI:https://americanlegioncheulapost92.org/my-calendar
DESCRIPTION:Nina's Taco's and Nacho's!Corn or Flour Taco $4.00Taco Salad $7.00Nacho's $3.00Nacho's Deluxe $7.005-6:30 PM at the Cheula Post 92 American Legion in McCloud!Take out and limited seating! 
CATEGORIES:American Legion Auxiliary
END:VEVENT
BEGIN:VEVENT
UID:1129-61
LOCATION:American Legion Hall  232 Broadway Ave  McCloud CA 96057
SUMMARY:Nina's Taco Wednesday!
DTSTAMP:20220209T170000
ORGANIZER;CN=Admin:MAILTO:hokage@webmasterninjas.com
DTSTART;TZID=Etc/GMT+8:20220209T170000
DTEND;TZID=Etc/GMT+8:20220209T183000
URL;VALUE=URI:https://americanlegioncheulapost92.org/my-calendar
DESCRIPTION:Nina's Taco's and Nacho's!Corn or Flour Taco $4.00Taco Salad $7.00Nacho's $3.00Nacho's Deluxe $7.005-6:30 PM at the Cheula Post 92 American Legion in McCloud!Take out and limited seating! 
CATEGORIES:American Legion Auxiliary
END:VEVENT
BEGIN:VEVENT
UID:1130-61
LOCATION:American Legion Hall  232 Broadway Ave  McCloud CA 96057
SUMMARY:Nina's Taco Wednesday!
DTSTAMP:20220216T170000
ORGANIZER;CN=Admin:MAILTO:hokage@webmasterninjas.com
DTSTART;TZID=Etc/GMT+8:20220216T170000
DTEND;TZID=Etc/GMT+8:20220216T183000
URL;VALUE=URI:https://americanlegioncheulapost92.org/my-calendar
DESCRIPTION:Nina's Taco's and Nacho's!Corn or Flour Taco $4.00Taco Salad $7.00Nacho's $3.00Nacho's Deluxe $7.005-6:30 PM at the Cheula Post 92 American Legion in McCloud!Take out and limited seating! 
CATEGORIES:American Legion Auxiliary
END:VEVENT
BEGIN:VEVENT
UID:1131-61
LOCATION:American Legion Hall  232 Broadway Ave  McCloud CA 96057
SUMMARY:Nina's Taco Wednesday!
DTSTAMP:20220223T170000
ORGANIZER;CN=Admin:MAILTO:hokage@webmasterninjas.com
DTSTART;TZID=Etc/GMT+8:20220223T170000
DTEND;TZID=Etc/GMT+8:20220223T183000
URL;VALUE=URI:https://americanlegioncheulapost92.org/my-calendar
DESCRIPTION:Nina's Taco's and Nacho's!Corn or Flour Taco $4.00Taco Salad $7.00Nacho's $3.00Nacho's Deluxe $7.005-6:30 PM at the Cheula Post 92 American Legion in McCloud!Take out and limited seating! 
CATEGORIES:American Legion Auxiliary
END:VEVENT
BEGIN:VEVENT
UID:1132-61
LOCATION:American Legion Hall  232 Broadway Ave  McCloud CA 96057
SUMMARY:Nina's Taco Wednesday!
DTSTAMP:20220302T170000
ORGANIZER;CN=Admin:MAILTO:hokage@webmasterninjas.com
DTSTART;TZID=Etc/GMT+8:20220302T170000
DTEND;TZID=Etc/GMT+8:20220302T183000
URL;VALUE=URI:https://americanlegioncheulapost92.org/my-calendar
DESCRIPTION:Nina's Taco's and Nacho's!Corn or Flour Taco $4.00Taco Salad $7.00Nacho's $3.00Nacho's Deluxe $7.005-6:30 PM at the Cheula Post 92 American Legion in McCloud!Take out and limited seating! 
CATEGORIES:American Legion Auxiliary
END:VEVENT
BEGIN:VEVENT
UID:1133-61
LOCATION:American Legion Hall  232 Broadway Ave  McCloud CA 96057
SUMMARY:Nina's Taco Wednesday!
DTSTAMP:20220309T170000
ORGANIZER;CN=Admin:MAILTO:hokage@webmasterninjas.com
DTSTART;TZID=Etc/GMT+8:20220309T170000
DTEND;TZID=Etc/GMT+8:20220309T183000
URL;VALUE=URI:https://americanlegioncheulapost92.org/my-calendar
DESCRIPTION:Nina's Taco's and Nacho's!Corn or Flour Taco $4.00Taco Salad $7.00Nacho's $3.00Nacho's Deluxe $7.005-6:30 PM at the Cheula Post 92 American Legion in McCloud!Take out and limited seating! 
CATEGORIES:American Legion Auxiliary
END:VEVENT
BEGIN:VEVENT
UID:1134-61
LOCATION:American Legion Hall  232 Broadway Ave  McCloud CA 96057
SUMMARY:Nina's Taco Wednesday!
DTSTAMP:20220316T170000
ORGANIZER;CN=Admin:MAILTO:hokage@webmasterninjas.com
DTSTART;TZID=Etc/GMT+8:20220316T170000
DTEND;TZID=Etc/GMT+8:20220316T183000
URL;VALUE=URI:https://americanlegioncheulapost92.org/my-calendar
DESCRIPTION:Nina's Taco's and Nacho's!Corn or Flour Taco $4.00Taco Salad $7.00Nacho's $3.00Nacho's Deluxe $7.005-6:30 PM at the Cheula Post 92 American Legion in McCloud!Take out and limited seating! 
CATEGORIES:American Legion Auxiliary
END:VEVENT
BEGIN:VEVENT
UID:1135-61
LOCATION:American Legion Hall  232 Broadway Ave  McCloud CA 96057
SUMMARY:Nina's Taco Wednesday!
DTSTAMP:20220323T170000
ORGANIZER;CN=Admin:MAILTO:hokage@webmasterninjas.com
DTSTART;TZID=Etc/GMT+8:20220323T170000
DTEND;TZID=Etc/GMT+8:20220323T183000
URL;VALUE=URI:https://americanlegioncheulapost92.org/my-calendar
DESCRIPTION:Nina's Taco's and Nacho's!Corn or Flour Taco $4.00Taco Salad $7.00Nacho's $3.00Nacho's Deluxe $7.005-6:30 PM at the Cheula Post 92 American Legion in McCloud!Take out and limited seating! 
CATEGORIES:American Legion Auxiliary
END:VEVENT
END:VCALENDAR